BEGIN:VCALENDAR
VERSION:2.0
PRODID:-//Library Market//iCal Export//EN
BEGIN:VEVENT
SUMMARY:Author Talk: Matt Dinniman
UID:30616
DTSTAMP:20260421T111700Z
DTSTART:20260611T230000Z
DTEND:20260612T000000Z
LOCATION:
DESCRIPTION:Brought to you in partnership with the Library Speakers Consor
 tium.Register and submit questions for the authors.Hold onto your heart-pa
 tterned boxers! Matt Dinniman, New York Times bestselling author of the wi
 ldly popular (and just plain wild) Dungeon Crawler Carl series, joins us t
 o chat about his latest book, A Parade of Horribles. As chaos and mass pa
 nic spread outside the dungeon in the wake of Faction Wars, Carl and Donut
  find themselves on the tenth floor, where they’re forced to compete in 
 a surprisingly normal set of tasks. Well, normal for the dungeon.Races. Ge
 t from point A to point B, and don’t come in last. After each race, they
  pick an upgrade for their vehicle and the track gets more challenging. It
  all seems a little too normal, a little too simple.Ignore those strange g
 litches that are occurring with increasing frequency. Don’t listen to th
 ose whispers about what’s happening on the mysterious eleventh floor, so
 mething the system AI calls A Parade of Horribles. Nobody, not even the sh
 owrunners, knows what that means. Just that the AI has ominously dubbed it
  “a coming-out party for the ages.”Everything is fine, Crawler. I repe
 at, everything is fine.Carl hates that it’s business as usual. The rules
  of this floor have taken away his agency. That just will not do.So Carl i
 s planning a party of his own. It’s a plan so dangerous, so insane, he c
 an’t even consult his friends lest the AI put a stop to it. Because if i
 t goes wrong, it’s not just the end of Carl and Donut. No. The stakes ar
 e higher than they’ve ever been.Register now for a fun-filled discussion
  you won’t want to miss!About the Author:Matt Dinniman is a writer and a
 rtist from Gig Harbor, Washington. He is the author of the New York Times 
 bestselling Dungeon Crawler Carl series along with several other books abo
 ut the end of the world. He doesn’t really hate Cocker Spaniels, and he
  plays bass in one band.
URL:https://events.lickingcountylibrary.org/event/author-talk-matt-dinnima
 n-30616
END:VEVENT
END:VCALENDAR
