BEGIN:VCALENDAR
VERSION:2.0
PRODID:-//Library Market//iCal Export//EN
BEGIN:VEVENT
SUMMARY:Unearth a Story: STEM Fun Through the Ages
UID:30544
DTSTAMP:20260421T012400Z
DTSTART:20260722T190000Z
DTEND:20260722T203000Z
LOCATION:990 West Main Street, Newark, OH 43055, United States
ROOM: Unearth a Story: STEM Fun Through the Ages
DESCRIPTION:Par Excellence Expeditions will join us as we experience the n
 atural history of Ohio through exciting STEM challenges! Tweens will inves
 tigate prehistoric life and tackle creative, science-driven activities tha
 t bring the past to life. Best for children ages 10-13.June 25: On the Hun
 t: Ohio Food SourcesJuly 22: Puzzling Ohio
URL:https://events.lickingcountylibrary.org/event/unearth-story-hunt-30544
END:VEVENT
END:VCALENDAR
