BEGIN:VCALENDAR
VERSION:2.0
PRODID:-//Library Market//iCal Export//EN
BEGIN:VEVENT
SUMMARY:Y on the Fly
UID:30491
DTSTAMP:20260421T031200Z
DTSTART:20260730T143000Z
DTEND:20260730T160000Z
LOCATION:320 North Main Street, Johnstown, OH 43031, United States
ROOM: Large Meeting Room- Johnstown
DESCRIPTION:Buckeye Valley Family YMCA brings a variety of games and STEM/
 STEAM activities weekly.
URL:https://events.lickingcountylibrary.org/event/y-fly-30491
END:VEVENT
END:VCALENDAR
