BEGIN:VCALENDAR
VERSION:2.0
PRODID:-//Library Market//iCal Export//EN
BEGIN:VEVENT
SUMMARY:Romantasy Book &amp; Craft Club
UID:30410
DTSTAMP:20260421T065000Z
DTSTART:20260811T220000Z
DTEND:20260811T230000Z
LOCATION:101 West Main Street, Newark, OH 43055, United States
ROOM: Conference Room
DESCRIPTION:Do you love fantasy mixed with your romance? This is a book cl
 ub where chatting and crafting go hand in hand. Materials are provided. Co
 pies of Silver Elite by Dani Francis are available at the Downtown Newark 
 location and may also be accessed digitally. 
URL:https://events.lickingcountylibrary.org/event/romantasy-book-craft-clu
 b-30410
END:VEVENT
END:VCALENDAR
