BEGIN:VCALENDAR
VERSION:2.0
PRODID:-//Library Market//iCal Export//EN
BEGIN:VEVENT
SUMMARY:Mobile Care Now Clinic
UID:30365
DTSTAMP:20260421T031300Z
DTSTART:20260727T140000Z
DTEND:20260727T200000Z
LOCATION:101 West Main Street, Newark, OH 43055, United States
ROOM: Mobile Care Now Clinic
DESCRIPTION:Behavioral Health Partners (BHP) of Central Ohio&#039;s Mobile
  Care Now Clinic (MCNC) and its certified behavioral health professionals 
 are visiting our Downtown Newark location in the front parking lot. BHP&#0
 39;s certified behavioral health professionals can assist adults and youth
  (ages 5+) experiencing mental health and addiction distress. This is an 
 effort to bridge the gap between the needs of our communities and access t
 o quality behavioral healthcare.
URL:https://events.lickingcountylibrary.org/event/mobile-care-now-clinic-3
 0365
END:VEVENT
END:VCALENDAR
