BEGIN:VCALENDAR
VERSION:2.0
PRODID:-//Library Market//iCal Export//EN
BEGIN:VEVENT
SUMMARY:Hartford Fair
UID:30311
DTSTAMP:20260421T054100Z
DTSTART:20260810T150000Z
DTEND:20260810T180000Z
LOCATION:The Hartford Fair, 14028 Fairgrounds Rd, Hartford, OH 43013, Unit
 ed States
ROOM: Hartford Fair
DESCRIPTION:The Mobile Library is visiting the Natural Resources area at t
 he Hartford Fair! Browse books for all ages and enjoy creative crafts, gam
 es, and interactive displays for children and adults.
URL:https://events.lickingcountylibrary.org/event/hartford-fair-30311
END:VEVENT
END:VCALENDAR
