BEGIN:VCALENDAR
VERSION:2.0
PRODID:-//Library Market//iCal Export//EN
BEGIN:VEVENT
SUMMARY:Unearth a Story: Movie-saurus
UID:30286
DTSTAMP:20260421T012400Z
DTSTART:20260722T170000Z
DTEND:20260722T193000Z
LOCATION:320 North Main Street, Johnstown, OH 43031, United States
ROOM: Large Meeting Room- Johnstown
DESCRIPTION:In Journey to the Center of the Earth, three explorers fall in
 to a subterranean world filled with strange creatures-including dinosaurs!
  You bring your friends, we&#039;ll—supply the popcorn.
URL:https://events.lickingcountylibrary.org/event/unearth-story-movie-saur
 us-30286
END:VEVENT
END:VCALENDAR
