BEGIN:VCALENDAR
VERSION:2.0
PRODID:-//Library Market//iCal Export//EN
BEGIN:VEVENT
SUMMARY:Babcock Book Club
UID:30280
DTSTAMP:20260421T065000Z
DTSTART:20260813T213000Z
DTEND:20260813T230000Z
LOCATION:320 North Main Street, Johnstown, OH 43031, United States
ROOM: Large Meeting Room- Johnstown
DESCRIPTION:Copies of The Silent Patient by Alex Michaelides are availabl
 e at the Johnstown (Mary E. Babcock) location and may also be accessed dig
 itally.
URL:https://events.lickingcountylibrary.org/event/babcock-book-club-30280
END:VEVENT
END:VCALENDAR
