BEGIN:VCALENDAR
VERSION:2.0
PRODID:-//Library Market//iCal Export//EN
BEGIN:VEVENT
SUMMARY:Unearth a Story: COTC Pataskala Kiosk Finale
UID:30269
DTSTAMP:20260420T234100Z
DTSTART:20260724T183000Z
DTEND:20260724T193000Z
LOCATION:Central Ohio Technical College Pataskala Campus, 8660 E Broad St,
  Pataskala, OH 43068, United States
ROOM: Unearth a Story: COTC Pataskala Kiosk Finale
DESCRIPTION:Celebrate all your reading achievements from our 2026 Summer L
 ibrary Program: Unearth A Story with roar-tastic fun and games at the kios
 k!
URL:https://events.lickingcountylibrary.org/event/unearth-story-cotc-patas
 kala-kiosk-finale-30269
END:VEVENT
END:VCALENDAR
