BEGIN:VCALENDAR
VERSION:2.0
PRODID:-//Library Market//iCal Export//EN
BEGIN:VEVENT
SUMMARY:Unearth a Story: Dino Crafts
UID:30250
DTSTAMP:20260421T014500Z
DTSTART:20260723T163000Z
DTEND:20260723T180000Z
LOCATION:Velvet Ice Cream, 11324 Mt. Vernon Rd., Utica, OH 43080, United S
 tates
ROOM: Unearth a Story: Dino Crafts
DESCRIPTION:Join us on the Mobile Library for dino-themed crafts and activ
 ities, perfect for children in grades pre-K and up! This event will be alo
 ngside Y on the Fly at Velvet Ice Cream, so be ready for other activities 
 as well!
URL:https://events.lickingcountylibrary.org/event/copy-unearth-story-even-
 more-dino-crafts-velvet-ice-cream-utica-30250
END:VEVENT
END:VCALENDAR
