BEGIN:VCALENDAR
VERSION:2.0
PRODID:-//Library Market//iCal Export//EN
BEGIN:VEVENT
SUMMARY:Maples &amp; Manuscripts
UID:30232
DTSTAMP:20260421T050700Z
DTSTART:20260806T230000Z
DTEND:20260807T003000Z
LOCATION:Octagon Earthworks, a UNESCO World Heritage Site, 125 N 33rd Stre
 et, NEWARK, OH 43055, United States
ROOM: Maples &amp; Manuscripts
DESCRIPTION:Discuss some of the best nature-themed nonfiction and explore 
 additional resources through activities to deepen our understanding of the
  natural world. For this month, copies of The Age of Deer: Trouble and Kin
 ship with our Wild Neighbors by Erika Howsare are available at the Downtow
 n Newark location and may also be accessed digitally. Registration is req
 uired.Maples &amp; Manuscripts is a partnership between Licking County Lib
 rary, the Hopewell Ceremonial Earthworks, and Dillon State Park.
URL:https://events.lickingcountylibrary.org/event/maples-manuscripts-30232
END:VEVENT
END:VCALENDAR
