BEGIN:VCALENDAR
VERSION:2.0
PRODID:-//Library Market//iCal Export//EN
BEGIN:VEVENT
SUMMARY:Kindergarten Boot Camp
UID:30225
DTSTAMP:20260421T012400Z
DTSTART:20260723T143000Z
DTEND:20260723T153000Z
LOCATION:101 West Main Street, Newark, OH 43055, United States
ROOM: Library Lab
DESCRIPTION:Designed for students entering kindergarten in the fall, this 
 8-week program introduces educational and social elements of the kindergar
 ten experience in an effort to boost the confidence of the student beginni
 ng their educational journey. Registration will be on a week-by-week basis
 , so please be sure to register for each week you can attend.
URL:https://events.lickingcountylibrary.org/event/kindergarten-boot-camp-3
 0225
END:VEVENT
END:VCALENDAR
