BEGIN:VCALENDAR
VERSION:2.0
PRODID:-//Library Market//iCal Export//EN
BEGIN:VEVENT
SUMMARY:Elementary Readers Club
UID:30217
DTSTAMP:20260421T031200Z
DTSTART:20260727T203000Z
DTEND:20260727T210000Z
LOCATION:101 West Main Street, Newark, OH 43055, United States
ROOM: Library Lab
DESCRIPTION:Elementary Readers Club is a small reading group for children 
 in first through third grade that focuses on developing literacy skills. T
 hrough stories and activities, children practice reading aloud, improving 
 reading comprehension, and learning new vocabulary words. 
URL:https://events.lickingcountylibrary.org/event/elementary-readers-club-
 30217
END:VEVENT
END:VCALENDAR
