BEGIN:VCALENDAR
VERSION:2.0
PRODID:-//Library Market//iCal Export//EN
BEGIN:VEVENT
SUMMARY:Family Story Time
UID:30200
DTSTAMP:20260421T050700Z
DTSTART:20260827T143000Z
DTEND:20260827T150000Z
LOCATION:990 West Main Street, Newark, OH 43055, United States
ROOM: Family Story Time
DESCRIPTION:
URL:https://events.lickingcountylibrary.org/event/family-story-time-30200
END:VEVENT
END:VCALENDAR
