BEGIN:VCALENDAR
VERSION:2.0
PRODID:-//Library Market//iCal Export//EN
BEGIN:VEVENT
SUMMARY:Unearth a Story: Jurassic UNO
UID:30186
DTSTAMP:20260421T012300Z
DTSTART:20260725T160000Z
DTEND:20260725T170000Z
LOCATION:115 South Main Street, Utica, OH 43080, United States
ROOM: Unearth a Story: Jurassic UNO
DESCRIPTION:UNO Attack Jurassic World Dominion is an electronic, themed ca
 rd game where players match colors and numbers, featuring a dinosaur-shape
 d launcher that shoots cards, mimicking a Dilophosaurus. When the special 
 &quot;Attack! Attack!&quot; card is drawn, the shooter triggers, firing ca
 rds and making fun dinosaur roars.
URL:https://events.lickingcountylibrary.org/event/unearth-story-game-night
 -jurassic-uno-30186
END:VEVENT
END:VCALENDAR
