BEGIN:VCALENDAR
VERSION:2.0
PRODID:-//Library Market//iCal Export//EN
BEGIN:VEVENT
SUMMARY:LGBTQIA+ Book Group
UID:30153
DTSTAMP:20260421T050700Z
DTSTART:20260827T213000Z
DTEND:20260827T223000Z
LOCATION:990 West Main Street, Newark, OH 43055, United States
ROOM: LGBTQIA+ Book Group
DESCRIPTION:Everyone is welcome to engage in fun, respectful dialogue. Cop
 ies of The Secret Lives of Country Gentlemen by K.J. Charles are available
  at the West Newark (Emerson R. Miller) location and may also be accessed 
 digitally.
URL:https://events.lickingcountylibrary.org/event/draft-lgbtqia-book-group
 -30153
END:VEVENT
END:VCALENDAR
