BEGIN:VCALENDAR
VERSION:2.0
PRODID:-//Library Market//iCal Export//EN
BEGIN:VEVENT
SUMMARY:Little Listeners: Chill Out and Read
UID:30092
DTSTAMP:20260421T031300Z
DTSTART:20260730T143000Z
DTEND:20260730T153000Z
LOCATION:990 West Main Street, Newark, OH 43055, United States
ROOM: Little Listeners: Chill Out and Read
DESCRIPTION:Cool off with stories, songs, and rhymes all about ice cream! 
 Preschoolers will enjoy sweet tales, playful movement, and frosty fun duri
 ng this delightful story time.
URL:https://events.lickingcountylibrary.org/event/draft-little-listeners-c
 hill-out-and-read-30092
END:VEVENT
END:VCALENDAR
