BEGIN:VCALENDAR
VERSION:2.0
PRODID:-//Library Market//iCal Export//EN
BEGIN:VEVENT
SUMMARY:Unearth a Story: Snoreytime Dinos
UID:30091
DTSTAMP:20260421T013700Z
DTSTART:20260721T223000Z
DTEND:20260721T233000Z
LOCATION:990 West Main Street, Newark, OH 43055, United States
ROOM: Unearth a Story: Snoreytime Dinos
DESCRIPTION:Stomp, chomp, and explore the world of dinosaurs at the Librar
 y! Young paleontologists will enjoy dinosaur stories, fun facts about thei
 r favorite prehistoric creatures, and hands-on activities. Perfect for cur
 ious kids who love dinosaurs and adventure!
URL:https://events.lickingcountylibrary.org/event/draft-unearth-story-snor
 eytime-dinos-30091
END:VEVENT
END:VCALENDAR
