BEGIN:VCALENDAR
VERSION:2.0
PRODID:-//Library Market//iCal Export//EN
BEGIN:VEVENT
SUMMARY:Historical Drama Group
UID:30070
DTSTAMP:20260421T050700Z
DTSTART:20260826T213000Z
DTEND:20260826T223000Z
LOCATION:990 West Main Street, Newark, OH 43055, United States
ROOM: Historical Drama Group
DESCRIPTION:Delve into the untold stories behind history through film and 
 gain a new perspective on the people and events that have shaped our world
 . Copies of Something The Lord Made with Alan Rickman are available at t
 he West Newark (Emerson R. Miller) location.  
URL:https://events.lickingcountylibrary.org/event/draft-historical-drama-g
 roup-30070
END:VEVENT
END:VCALENDAR
