BEGIN:VCALENDAR
VERSION:2.0
PRODID:-//Library Market//iCal Export//EN
BEGIN:VEVENT
SUMMARY:BritLit Book Group
UID:30066
DTSTAMP:20260421T085700Z
DTSTART:20260819T213000Z
DTEND:20260819T223000Z
LOCATION:990 West Main Street, Newark, OH 43055, United States
ROOM: BritLit Book Group
DESCRIPTION:Calling all literary enthusiasts and Anglophiles!  Join us fo
 r witty discussions and a jolly good time.  Copies of The Secret Book Soc
 iety by Madeline Martin are available at the West Newark (Emerson R. Mil
 ler) location and may also be accessed digitally.  
URL:https://events.lickingcountylibrary.org/event/draft-britlit-book-group
 -30066
END:VEVENT
END:VCALENDAR
