BEGIN:VCALENDAR
VERSION:2.0
PRODID:-//Library Market//iCal Export//EN
BEGIN:VEVENT
SUMMARY:Unearth a Story: Bingo Book Club
UID:30065
DTSTAMP:20260421T012400Z
DTSTART:20260725T180000Z
DTEND:20260725T190000Z
LOCATION:Lakewood, 620 East Main Street, Suite G &amp; H, Hebron, OH 43025
 , United States
ROOM: Small Meeting Room - Lakewood
DESCRIPTION:Share what you’ve been reading this summer for reading bingo
 ! Pick up a bingo sheet beginning June 1. Meet with fellow readers on June
  27 and July 25, and bring a sheet with one or more bingos for a chance to
  win.
URL:https://events.lickingcountylibrary.org/event/unearth-story-bingo-book
 -club-30065
END:VEVENT
END:VCALENDAR
