BEGIN:VCALENDAR
VERSION:2.0
PRODID:-//Library Market//iCal Export//EN
BEGIN:VEVENT
SUMMARY:Family Story Time
UID:30050
DTSTAMP:20260421T032600Z
DTSTART:20260729T143000Z
DTEND:20260729T150000Z
LOCATION:Lakewood, 620 East Main Street, Suite G &amp; H, Hebron, OH 43025
 , United States
ROOM: Small Meeting Room - Lakewood
DESCRIPTION:
URL:https://events.lickingcountylibrary.org/event/family-story-time-30050
END:VEVENT
END:VCALENDAR
