BEGIN:VCALENDAR
VERSION:2.0
PRODID:-//Library Market//iCal Export//EN
BEGIN:VEVENT
SUMMARY:Cutting the Cable Cord
UID:29981
DTSTAMP:20260421T065000Z
DTSTART:20260813T170000Z
DTEND:20260813T180000Z
LOCATION:LCAP, 1058 E. Main Street, Newark, OH 43055, United States
ROOM: Cutting the Cable Cord
DESCRIPTION:Using the internet to stream TV and movies has become very pop
 ular over the past several years. In this class, our Techsperts introduce 
 the basics of streaming, what equipment is needed, what services are avail
 able, and how to get local channels without paying that enormous cable tel
 evision bill. This program is held at the Licking County Aging Partners: 1
 058 E. Main Street, Newark. Please register by calling 740.345.0821.
URL:https://events.lickingcountylibrary.org/event/never-see-storage-full-a
 gain-29981
END:VEVENT
END:VCALENDAR
