BEGIN:VCALENDAR
VERSION:2.0
PRODID:-//Library Market//iCal Export//EN
BEGIN:VEVENT
SUMMARY:Unearth a Story: Blow Off Some STEAM
UID:29923
DTSTAMP:20260421T014400Z
DTSTART:20260722T190000Z
DTEND:20260722T200000Z
LOCATION:101 West Main Street, Newark, OH 43055, United States
ROOM: Discovery Center-Downtown Newark
DESCRIPTION:Dino-themed STEAM (Science, Technology, Engineering, Art, Math
 ematics) activities are set up at stations for learning through play in th
 e Discovery Center! 
URL:https://events.lickingcountylibrary.org/event/unearth-story-blow-some-
 steam-29923
END:VEVENT
END:VCALENDAR
