BEGIN:VCALENDAR
VERSION:2.0
PRODID:-//Library Market//iCal Export//EN
BEGIN:VEVENT
SUMMARY:Basic Computing
UID:29884
DTSTAMP:20260421T012300Z
DTSTART:20260723T170000Z
DTEND:20260723T180000Z
LOCATION:101 West Main Street, Newark, OH 43055, United States
ROOM: Meeting Room B- Downtown Newark
DESCRIPTION:This class provides a gentle introduction to the essential par
 ts of a computer, from navigating the desktop to understanding basic hardw
 are. You will gain the confidence to manage files, use a mouse and keyboar
 d, and browse the internet safely and effectively. By the end of the sessi
 on, you will have a solid foundation to tackle more advanced digital tasks
  with ease.
URL:https://events.lickingcountylibrary.org/event/basic-computing-29884
END:VEVENT
END:VCALENDAR
