BEGIN:VCALENDAR
VERSION:2.0
PRODID:-//Library Market//iCal Export//EN
BEGIN:VEVENT
SUMMARY:Page Turners Book Club
UID:29850
DTSTAMP:20260421T085700Z
DTSTART:20260818T190000Z
DTEND:20260818T200000Z
LOCATION:101 West Main Street, Newark, OH 43055, United States
ROOM: Conference Room
DESCRIPTION:Gather with friends and fellow readers to explore the spectrum
  of literature and share perspectives. Copies of Heartwood by Amity Gaige 
 are available at the Downtown Newark location and may also be accessed dig
 itally.
URL:https://events.lickingcountylibrary.org/event/page-turners-book-club-2
 9850
END:VEVENT
END:VCALENDAR
