BEGIN:VCALENDAR
VERSION:2.0
PRODID:-//Library Market//iCal Export//EN
BEGIN:VEVENT
SUMMARY:Unearth a Story: Fossil Diffuser
UID:29788
DTSTAMP:20260421T111700Z
DTSTART:20260608T220000Z
DTEND:20260608T230000Z
LOCATION:990 West Main Street, Newark, OH 43055, United States
ROOM: Unearth a Story: Fossil Diffuser
DESCRIPTION:Unearth your creativity by creating your own fossil-inspired d
 iffuser using air-dry clay, essential oils, and the botanical imprint of y
 our choice.
URL:https://events.lickingcountylibrary.org/event/draft-unearth-story-foss
 il-diffusers-29788
END:VEVENT
END:VCALENDAR
