BEGIN:VCALENDAR
VERSION:2.0
PRODID:-//Library Market//iCal Export//EN
BEGIN:VEVENT
SUMMARY:EXTRAterrestrial Sci-Fi and Fantasy Book Club
UID:29783
DTSTAMP:20260421T085700Z
DTSTART:20260820T220000Z
DTEND:20260820T230000Z
LOCATION:101 West Main Street, Newark, OH 43055, United States
ROOM: Conference Room
DESCRIPTION:Discuss the month’s book with your fellow earthlings! Copies
  of Katabasis by R.F. Kuang are available at the Downtown Newark location 
 and may also be accessed digitally.
URL:https://events.lickingcountylibrary.org/event/extraterrestrial-sci-fi-
 and-fantasy-book-club-29783
END:VEVENT
END:VCALENDAR
