BEGIN:VCALENDAR
VERSION:2.0
PRODID:-//Library Market//iCal Export//EN
BEGIN:VEVENT
SUMMARY:LGBTQIA+ Book Group
UID:29773
DTSTAMP:20260421T031200Z
DTSTART:20260730T213000Z
DTEND:20260730T223000Z
LOCATION:990 West Main Street, Newark, OH 43055, United States
ROOM: LGBTQIA+ Book Group
DESCRIPTION:Everyone is welcome to engage in fun, respectful dialogue. Cop
 ies of Greta &amp; Valdin by Rebecca Reilly are available at the West Newa
 rk (Emerson R. Miller) location and may also be accessed digitally.
URL:https://events.lickingcountylibrary.org/event/draft-lgbtqia-book-group
 -29773
END:VEVENT
END:VCALENDAR
