BEGIN:VCALENDAR
VERSION:2.0
PRODID:-//Library Market//iCal Export//EN
BEGIN:VEVENT
SUMMARY:Unearth a Story: Make Me Minecraft
UID:29771
DTSTAMP:20260421T012400Z
DTSTART:20260723T220000Z
DTEND:20260723T230000Z
LOCATION:990 West Main Street, Newark, OH 43055, United States
ROOM: Unearth a Story: Make Me Minecraft
DESCRIPTION:Create your own Minecraft self-portrait. It’s hip to be squa
 re. 
URL:https://events.lickingcountylibrary.org/event/draft-unearth-story-make
 -me-minecraft-29771
END:VEVENT
END:VCALENDAR
