BEGIN:VCALENDAR
VERSION:2.0
PRODID:-//Library Market//iCal Export//EN
BEGIN:VEVENT
SUMMARY:Learn to Cross Stitch
UID:29688
DTSTAMP:20260421T050700Z
DTSTART:20260804T220000Z
DTEND:20260804T230000Z
LOCATION:320 North Main Street, Johnstown, OH 43031, United States
ROOM: Large Meeting Room- Johnstown
DESCRIPTION:Learn to cross stitch with a beginner&#039;s kits and then cre
 ate your own bookmark with a needle and thread.
URL:https://events.lickingcountylibrary.org/event/learn-cross-stitch-29688
END:VEVENT
END:VCALENDAR
