BEGIN:VCALENDAR
VERSION:2.0
PRODID:-//Library Market//iCal Export//EN
BEGIN:VEVENT
SUMMARY:Unearth a Story: Dinosaur Terrariums
UID:29628
DTSTAMP:20260421T111700Z
DTSTART:20260608T223000Z
DTEND:20260608T233000Z
LOCATION:101 West Main Street, Newark, OH 43055, United States
ROOM: Conference Room
DESCRIPTION:Create your own miniature dinosaur terrarium while learning ab
 out Ohio&#039;s environment during the time of the dinosaurs!
URL:https://events.lickingcountylibrary.org/event/dinosaur-terrariums-2962
 8
END:VEVENT
END:VCALENDAR
