BEGIN:VCALENDAR
VERSION:2.0
PRODID:-//Library Market//iCal Export//EN
BEGIN:VEVENT
SUMMARY:Unearth a Story: Jurassic Luau
UID:29597
DTSTAMP:20260421T014700Z
DTSTART:20260723T173000Z
DTEND:20260723T190000Z
LOCATION:101 West Main Street, Newark, OH 43055, United States
ROOM: Discovery Center-Downtown Newark
DESCRIPTION:Dig up some fun at our Jurassic Luau! We are celebrating summe
 r reading with: dino bites and lava punch, prehistoric crafts, and T-rex l
 imbo. Drop in for a rawr-some celebration!
URL:https://events.lickingcountylibrary.org/event/jurassic-luau-29597
END:VEVENT
END:VCALENDAR
