BEGIN:VCALENDAR
VERSION:2.0
PRODID:-//Library Market//iCal Export//EN
BEGIN:VEVENT
SUMMARY:Unearth a Story: Kawaii Kraft Night
UID:29367
DTSTAMP:20260421T012400Z
DTSTART:20260723T220000Z
DTEND:20260723T233000Z
LOCATION:101 West Main Street, Newark, OH 43055, United States
ROOM: Discovery Center-Downtown Newark
DESCRIPTION:Join Anime Club for a kawaii crafting night! Learn about Japa
 nese kawaii aesthetic and create your own adorable crafts inspired by anim
 e, cute characters, and pastel vibes.
URL:https://events.lickingcountylibrary.org/event/unearth-story-anime-club
 -kawaii-kraft-night-29367
END:VEVENT
END:VCALENDAR
