BEGIN:VCALENDAR
VERSION:2.0
PRODID:-//Library Market//iCal Export//EN
BEGIN:VEVENT
SUMMARY:Teacher Supply Swap
UID:29140
DTSTAMP:20260421T050700Z
DTSTART:20260808T133000Z
DTEND:20260808T190000Z
LOCATION:Lakewood, 620 East Main Street, Suite G &amp; H, Hebron, OH 43025
 , United States
ROOM: Small Meeting Room - Lakewood
DESCRIPTION:Calling all educators! Bring your new or gently used school su
 pplies to donate and swap at this community-driven event. Refresh local cl
 assrooms, promote sustainability, and support fellow educators while choos
 ing items on a first-come, first-served basis. You can also donate classro
 om decorations to help equip students and teachers with the essential tool
 s they need for a successful school year.
URL:https://events.lickingcountylibrary.org/event/teacher-supply-swap-2914
 0
END:VEVENT
END:VCALENDAR
