BEGIN:VCALENDAR
VERSION:2.0
PRODID:-//Library Market//iCal Export//EN
BEGIN:VEVENT
SUMMARY:Pen &amp; Games
UID:28882
DTSTAMP:20260421T031200Z
DTSTART:20260730T210000Z
DTEND:20260730T223000Z
LOCATION:101 West Main Street, Newark, OH 43055, United States
ROOM: Meeting Room B- Downtown Newark
DESCRIPTION:Vote to have a creative writing workshop, play board games, or
  a mix of both! Adults and teens with disabilities are encouraged to bring
  a notebook, some writing samples, and game favorites, but games (includin
 g braille options) and creative exercises are provided.
URL:https://events.lickingcountylibrary.org/event/pen-games-28882
END:VEVENT
END:VCALENDAR
