BEGIN:VCALENDAR
VERSION:2.0
PRODID:-//Library Market//iCal Export//EN
BEGIN:VEVENT
SUMMARY:Turning Backyard Weeds into Wellness
UID:28600
DTSTAMP:20260421T111700Z
DTSTART:20260610T170000Z
DTEND:20260610T183000Z
LOCATION:Lakewood, 620 East Main Street, Suite G &amp; H, Hebron, OH 43025
 , United States
ROOM: Small Meeting Room - Lakewood
DESCRIPTION:Diana Hand, naturopathic doctor and forager, discusses the hea
 lth benefits of some wild &quot;weeds&quot; and tincture making. Diana is 
 a certified family herbalist with years of experience who has taught class
 es for Licking Park District and others.
URL:https://events.lickingcountylibrary.org/event/foraging-miracle-weeds-2
 8600
END:VEVENT
END:VCALENDAR
