BEGIN:VCALENDAR
VERSION:2.0
PRODID:-//Library Market//iCal Export//EN
BEGIN:VEVENT
SUMMARY:Unearth a Story: Dig into Magic
UID:28534
DTSTAMP:20260421T012400Z
DTSTART:20260722T170000Z
DTEND:20260722T180000Z
LOCATION:115 South Main Street, Utica, OH 43080, United States
ROOM: Small Meeting Room- Utica
DESCRIPTION:Ron Spangler will lead us into a magical world of wonder, fill
 ed with laughter and amazement. Audience participation is encouraged, and 
 you might even step into the spotlight and become a star of the show!
URL:https://events.lickingcountylibrary.org/event/slp-2026-ron-spangler-ma
 gic-28534
END:VEVENT
END:VCALENDAR
