BEGIN:VCALENDAR
VERSION:2.0
PRODID:-//Library Market//iCal Export//EN
BEGIN:VEVENT
SUMMARY:Unearth a Story: Dig into Magic
UID:28533
DTSTAMP:20260421T012400Z
DTSTART:20260722T140000Z
DTEND:20260722T150000Z
LOCATION:990 West Main Street, Newark, OH 43055, United States
ROOM: Unearth a Story: Dig into Magic
DESCRIPTION:Ron Spangler will lead us into a magical world of wonder, fill
 ed with laughter and amazement. Audience participation is encouraged, and 
 you might even step into the spotlight and become a star of the show!
URL:https://events.lickingcountylibrary.org/event/slp-2026-ron-spangler-ma
 gic-28533
END:VEVENT
END:VCALENDAR
