BEGIN:VCALENDAR
VERSION:2.0
PRODID:-//Library Market//iCal Export//EN
BEGIN:VEVENT
SUMMARY:Legacy Park: Hanover
UID:26770
DTSTAMP:20260421T012400Z
DTSTART:20260827T213000Z
DTEND:20260827T220000Z
LOCATION:Legacy Park, 2286 W High St. NE, Newark, OH 43055, United States
ROOM: Legacy Park: Hanover
DESCRIPTION:The Mobile Library is visiting your community! Browse books fo
 r all ages and enjoy creative crafts, games, and interactive displays for 
 children and adults.
URL:https://events.lickingcountylibrary.org/event/legacy-park-hanover-2677
 0
END:VEVENT
END:VCALENDAR
