BEGIN:VCALENDAR
VERSION:2.0
PRODID:-//Library Market//iCal Export//EN
BEGIN:VEVENT
SUMMARY:Read with Rue in Hanover
UID:26768
DTSTAMP:20260421T111700Z
DTSTART:20260625T213000Z
DTEND:20260625T220000Z
LOCATION:Legacy Park, 2286 W High St. NE, Newark, OH 43055, United States
ROOM: Read with Rue in Hanover
DESCRIPTION:The Mobile Library is visiting your community! Browse books fo
 r all ages and enjoy creative crafts, games, and interactive displays for 
 children and adults.This month, visitors to this stop are invited to drop-
 in and read to Rue, a very friendly and happy Goldendoodle, who would ruff
  to meet you!  All ages are welcome to enjoy this positive and inclusive 
 reading experience with a certified therapy dog.
URL:https://events.lickingcountylibrary.org/event/legacy-park-hanover-2676
 8
END:VEVENT
END:VCALENDAR
