BEGIN:VCALENDAR
VERSION:2.0
PRODID:-//Library Market//iCal Export//EN
BEGIN:VEVENT
SUMMARY:Blackhand Gorge Entrance: Toboso
UID:26757
DTSTAMP:20260420T234100Z
DTSTART:20260723T204500Z
DTEND:20260723T211500Z
LOCATION:Blackhand Gorge State Nature Preserve, Toboso, OH 43056, United S
 tates
ROOM: Blackhand Gorge Entrance: Toboso
DESCRIPTION:The Mobile Library is visiting your community! Browse books fo
 r all ages and enjoy creative crafts, games, and interactive displays for 
 children and adults.
URL:https://events.lickingcountylibrary.org/event/well-toboso-26757
END:VEVENT
END:VCALENDAR
