BEGIN:VCALENDAR
VERSION:2.0
PRODID:-//Library Market//iCal Export//EN
BEGIN:VEVENT
SUMMARY:Autumn Way: Pataskala
UID:26734
DTSTAMP:20260421T012300Z
DTSTART:20260826T204500Z
DTEND:20260826T211500Z
LOCATION:Autumn Way, Pataskala, OH 43062, United States
ROOM: Autumn Way: Pataskala
DESCRIPTION:Visit our Mobile Library!
URL:https://events.lickingcountylibrary.org/event/autumn-way-pataskala-267
 34
END:VEVENT
END:VCALENDAR
