BEGIN:VCALENDAR
VERSION:2.0
PRODID:-//Library Market//iCal Export//EN
BEGIN:VEVENT
SUMMARY:Autumn Way: Pataskala
UID:26733
DTSTAMP:20260420T234100Z
DTSTART:20260722T204500Z
DTEND:20260722T211500Z
LOCATION:Autumn Way, Pataskala, OH 43062, United States
ROOM: Autumn Way: Pataskala
DESCRIPTION:Visit our Mobile Library!
URL:https://events.lickingcountylibrary.org/event/autumn-way-pataskala-267
 33
END:VEVENT
END:VCALENDAR
