BEGIN:VCALENDAR
VERSION:2.0
PRODID:-//Library Market//iCal Export//EN
BEGIN:VEVENT
SUMMARY:Citizens Park: Pataskala
UID:26679
DTSTAMP:20260421T014900Z
DTSTART:20260728T201500Z
DTEND:20260728T210000Z
LOCATION:Citizen Park, Pataskala, OH 43062, United States
ROOM: Citizens Park: Pataskala
DESCRIPTION:Visit our Mobile Library!
URL:https://events.lickingcountylibrary.org/event/citizens-park-pataskala-
 26679
END:VEVENT
END:VCALENDAR
