BEGIN:VCALENDAR
VERSION:2.0
PRODID:-//Library Market//iCal Export//EN
BEGIN:VEVENT
SUMMARY:Citizens Park: Pataskala
UID:26678
DTSTAMP:20260421T111700Z
DTSTART:20260623T201500Z
DTEND:20260623T210000Z
LOCATION:Citizen Park, Pataskala, OH 43062, United States
ROOM: Citizens Park: Pataskala
DESCRIPTION:Visit our Mobile Library!
URL:https://events.lickingcountylibrary.org/event/citizens-park-pataskala-
 26678
END:VEVENT
END:VCALENDAR
