BEGIN:VCALENDAR
VERSION:2.0
PRODID:-//Library Market//iCal Export//EN
BEGIN:VEVENT
SUMMARY:Look Up Ctr.: Newark
UID:26668
DTSTAMP:20260421T034900Z
DTSTART:20260824T211500Z
DTEND:20260824T220000Z
LOCATION:Look Up Ctr., 50 O&#039;Bannon Ave ., Newark, OH 43055, United St
 ates
ROOM: Look Up Ctr.: Newark
DESCRIPTION:Visit our Mobile Library!
URL:https://events.lickingcountylibrary.org/event/look-ctr-newark-26668
END:VEVENT
END:VCALENDAR
