BEGIN:VCALENDAR
VERSION:2.0
PRODID:-//Library Market//iCal Export//EN
BEGIN:VEVENT
SUMMARY:Look Up Ctr.: Newark
UID:26667
DTSTAMP:20260421T014900Z
DTSTART:20260727T211500Z
DTEND:20260727T220000Z
LOCATION:Look Up Ctr., 50 O&#039;Bannon Ave ., Newark, OH 43055, United St
 ates
ROOM: Look Up Ctr.: Newark
DESCRIPTION:Visit our Mobile Library!
URL:https://events.lickingcountylibrary.org/event/look-ctr-newark-26667
END:VEVENT
END:VCALENDAR
