BEGIN:VCALENDAR
VERSION:2.0
PRODID:-//Library Market//iCal Export//EN
BEGIN:VEVENT
SUMMARY:Shalimar Drive: Newark
UID:26656
DTSTAMP:20260421T033700Z
DTSTART:20260824T203000Z
DTEND:20260824T210000Z
LOCATION:Shalimar Dr., Newark, OH 43055, United States
ROOM: Shalimar Drive: Newark
DESCRIPTION:Visit our Mobile Library!
URL:https://events.lickingcountylibrary.org/event/shalimar-drive-newark-26
 656
END:VEVENT
END:VCALENDAR
