BEGIN:VCALENDAR
VERSION:2.0
PRODID:-//Library Market//iCal Export//EN
BEGIN:VEVENT
SUMMARY:Goodwill: Buckeye Lake
UID:26607
DTSTAMP:20260421T111700Z
DTSTART:20260716T190000Z
DTEND:20260716T194500Z
LOCATION:Goodwill, 10933 Hebron Rd., Buckeye Lake, OH 43008, United States
ROOM: Goodwill: Buckeye Lake
DESCRIPTION:The Mobile Library is visiting your community! Browse books fo
 r all ages and enjoy creative crafts, games, and interactive displays for 
 children and adults.
URL:https://events.lickingcountylibrary.org/event/goodwill-buckeye-lake-26
 607
END:VEVENT
END:VCALENDAR
